BEGIN:VCALENDAR
VERSION:2.0
PRODID:-//San Miguel Arcángel │Mary’s instruments, firm and free to the world - ECPv6.15.18//NONSGML v1.0//EN
CALSCALE:GREGORIAN
METHOD:PUBLISH
X-WR-CALNAME:San Miguel Arcángel │Mary’s instruments, firm and free to the world
X-ORIGINAL-URL:https://www.sanmiguelarcangel.cl/wpsma
X-WR-CALDESC:Eventos para San Miguel Arcángel │Mary’s instruments, firm and free to the world
REFRESH-INTERVAL;VALUE=DURATION:PT1H
X-Robots-Tag:noindex
X-PUBLISHED-TTL:PT1H
BEGIN:VTIMEZONE
TZID:America/Sao_Paulo
BEGIN:STANDARD
TZOFFSETFROM:-0300
TZOFFSETTO:-0300
TZNAME:-03
DTSTART:20250101T000000
END:STANDARD
END:VTIMEZONE
BEGIN:VEVENT
DTSTART;TZID=America/Sao_Paulo:20260317T080000
DTEND;TZID=America/Sao_Paulo:20260317T170000
DTSTAMP:20260421T113705
CREATED:20260310T184913Z
LAST-MODIFIED:20260310T184913Z
UID:20598-1773734400-1773766800@www.sanmiguelarcangel.cl
SUMMARY:Salida electivo Arte IV
DESCRIPTION:
URL:https://www.sanmiguelarcangel.cl/wpsma/event/salida-electivo-arte-iv/
END:VEVENT
END:VCALENDAR