BEGIN:VCALENDAR
VERSION:2.0
PRODID:-//San Miguel Arcángel │Mary’s instruments, firm and free to the world - ECPv6.15.18//NONSGML v1.0//EN
CALSCALE:GREGORIAN
METHOD:PUBLISH
X-ORIGINAL-URL:https://www.sanmiguelarcangel.cl/wpsma
X-WR-CALDESC:Eventos para San Miguel Arcángel │Mary’s instruments, firm and free to the world
REFRESH-INTERVAL;VALUE=DURATION:PT1H
X-Robots-Tag:noindex
X-PUBLISHED-TTL:PT1H
BEGIN:VTIMEZONE
TZID:America/Sao_Paulo
BEGIN:STANDARD
TZOFFSETFROM:-0300
TZOFFSETTO:-0300
TZNAME:-03
DTSTART:20250101T000000
END:STANDARD
END:VTIMEZONE
BEGIN:VEVENT
DTSTART;TZID=America/Sao_Paulo:20260420T080000
DTEND;TZID=America/Sao_Paulo:20260420T140000
DTSTAMP:20260419T131900
CREATED:20260407T184313Z
LAST-MODIFIED:20260407T184313Z
UID:20776-1776672000-1776693600@www.sanmiguelarcangel.cl
SUMMARY:Vacunación influenza Prekínder a 5° Básico
DESCRIPTION:
URL:https://www.sanmiguelarcangel.cl/wpsma/event/vacunacion-influenza-prekinder-a-5-basico/
END:VEVENT
END:VCALENDAR